Workbook
Name Additional_principal: Sheet1!$C$15
Name Annual_appreciation: Sheet1!$C$17
Name Down_payment: Sheet1!$C$10
Name Insurance__annual: Sheet1!$C$18
Name Loan_amount: Sheet1!$C$11
Name Marginal_tax_bracket: Sheet1!$C$16
Name Payment: Sheet1!$C$12
Name Property_tax_rate: Sheet1!$C$19
Name Purchase_price: Sheet1!$C$9
Name Rate: Sheet1!$C$8

Sheet Sheet1
B2: Mortgage Financial Analysis
B4: This calculator computes your financial position for the first 10 years of a mortgage. Click on the yellow-highlighted cells to change their values, then press "Enter" to update the tables. All values in the table are cumulative.
B6: Mortgage parameters | E6: Cumulative Financial Analysis - 1 to 10 years
B7: Mortgage term (years) | C7: 30 | E7: Years | F7: Cash out** | G7: Tax savings | H7: Net cost*** | I7: Loan balance | J7: Property value | K7: Equity
B8: Rate | C8: 0.04 | E8: 1 | F8: =SUM(Sheet2!G13:I13)+Purchase_price*(1+Annual_appreciation)^(E8-1)*Property_tax_rate+Insurance__annual+Down_payment -> 224686.95 | G8: =Sheet2!G13*Marginal_tax_bracket -> 2856.9219 | H8: =F8-G8 -> 221830.03 | I8: =Sheet2!F13 -> 294716.89 | J8: =$C$9*(1+$C$17)^E8 -> 515000 | K8: =J8-I8 -> 220283.11
B9: Purchase price | C9: 500000 | E9: =1+E8 -> 2 | F9: =SUM(Sheet2!G25:I25)+Purchase_price*(1+Annual_appreciation)^(E9-1)*Property_tax_rate+Insurance__annual+F8 -> 249448.9 | G9: =Sheet2!G25*Marginal_tax_bracket+G8 -> 5662.1858 | H9: =F9-G9 -> 243786.72 | I9: =Sheet2!F25 -> 289218.54 | J9: =$C$9*(1+$C$17)^E9 -> 530450 | K9: =J9-I9 -> 241231.46
B10: Down payment | C10: 200000 | E10: =1+E9 -> 3 | F10: =SUM(Sheet2!G37:I37)+Purchase_price*(1+Annual_appreciation)^(E10-1)*Property_tax_rate+Insurance__annual+F9 -> 274288.1 | G10: =Sheet2!G37*Marginal_tax_bracket+G9 -> 8413.6869 | H10: =F10-G10 -> 265874.42 | I10: =Sheet2!F37 -> 283496.18 | J10: =$C$9*(1+$C$17)^E10 -> 546363.5 | K10: =J10-I10 -> 262867.32
B11: Loan amount | C11: =C9-C10 -> 300000 | E11: =1+E10 -> 4 | F11: =SUM(Sheet2!G49:I49)+Purchase_price*(1+Annual_appreciation)^(E11-1)*Property_tax_rate+Insurance__annual+F10 -> 299206.87 | G11: =Sheet2!G49*Marginal_tax_bracket+G10 -> 11109.235 | H11: =F11-G11 -> 288097.64 | I11: =Sheet2!F49 -> 277540.68 | J11: =$C$9*(1+$C$17)^E11 -> 562754.4 | K11: =J11-I11 -> 285213.73
B12: Payment | C12: =-PMT(C8/12, C7*12, C11) -> 1432.2459 | E12: =1+E11 -> 5 | F12: =SUM(Sheet2!G61:I61)+Purchase_price*(1+Annual_appreciation)^(E12-1)*Property_tax_rate+Insurance__annual+F11 -> 324207.59 | G12: =Sheet2!G61*Marginal_tax_bracket+G11 -> 13746.55 | H12: =F12-G12 -> 310461.04 | I12: =Sheet2!F61 -> 271342.54 | J12: =$C$9*(1+$C$17)^E12 -> 579637.04 | K12: =J12-I12 -> 308294.5
E13: =1+E12 -> 6 | F13: =SUM(Sheet2!G73:I73)+Purchase_price*(1+Annual_appreciation)^(E13-1)*Property_tax_rate+Insurance__annual+F12 -> 349292.73 | G13: =Sheet2!G73*Marginal_tax_bracket+G12 -> 16323.26 | H13: =F13-G13 -> 332969.47 | I13: =Sheet2!F73 -> 264891.88 | J13: =$C$9*(1+$C$17)^E13 -> 597026.15 | K13: =J13-I13 -> 332134.27
B14: Additional factors | E14: =1+E13 -> 7 | F14: =SUM(Sheet2!G85:I85)+Purchase_price*(1+Annual_appreciation)^(E14-1)*Property_tax_rate+Insurance__annual+F13 -> 374464.81 | G14: =Sheet2!G85*Marginal_tax_bracket+G13 -> 18836.896 | H14: =F14-G14 -> 355627.91 | I14: =Sheet2!F85 -> 258178.41 | J14: =$C$9*(1+$C$17)^E14 -> 614936.93 | K14: =J14-I14 -> 356758.52
B15: Additional principal* | C15: 0 | E15: =1+E14 -> 8 | F15: =SUM(Sheet2!G97:I97)+Purchase_price*(1+Annual_appreciation)^(E15-1)*Property_tax_rate+Insurance__annual+F14 -> 399726.45 | G15: =Sheet2!G97*Marginal_tax_bracket+G14 -> 21284.888 | H15: =F15-G15 -> 378441.56 | I15: =Sheet2!F97 -> 251191.43 | J15: =$C$9*(1+$C$17)^E15 -> 633385.04 | K15: =J15-I15 -> 382193.61
B16: Marginal tax bracket | C16: 0.24 | E16: =1+E15 -> 9 | F16: =SUM(Sheet2!G109:I109)+Purchase_price*(1+Annual_appreciation)^(E16-1)*Property_tax_rate+Insurance__annual+F15 -> 425080.32 | G16: =Sheet2!G109*Marginal_tax_bracket+G15 -> 23664.561 | H16: =F16-G16 -> 401415.76 | I16: =Sheet2!F109 -> 243919.78 | J16: =$C$9*(1+$C$17)^E16 -> 652386.59 | K16: =J16-I16 -> 408466.81
B17: Annual appreciation | C17: 0.03 | E17: =1+E16 -> 10 | F17: =SUM(Sheet2!G121:I121)+Purchase_price*(1+Annual_appreciation)^(E17-1)*Property_tax_rate+Insurance__annual+F16 -> 450529.2 | G17: =Sheet2!G121*Marginal_tax_bracket+G16 -> 25973.132 | H17: =F17-G17 -> 424556.07 | I17: =Sheet2!F121 -> 236351.88 | J17: =$C$9*(1+$C$17)^E17 -> 671958.19 | K17: =J17-I17 -> 435606.31
B18: Insurance (annual) | C18: 5000
B19: Property tax rate | C19: 0.005
B21: * - additional principal payment applied each month (optional)
B22: ** - includes down payment, total principal and interest, property taxes and insurance
B23: *** - cash out less tax savings

Sheet Sheet2
A1: Month | B1: Balance | C1: Interest | D1: Principal paid | E1: Pre-paid | F1: New Balance | G1: Annual Interest Paid | H1: Annual Principal Paid | I1: Annual Pre-pay
A2: 1 | B2: =Sheet1!$C$11 -> 300000 | C2: =B2*Sheet1!$C$8/12 -> 1000 | D2: =Sheet1!$C$12-C2 -> 432.24589 | E2: =Sheet1!$C$15 -> 0 | F2: =MAX(B2-D2-E2,0) -> 299567.75
A3: =1+A2 -> 2 | B3: =F2 -> 299567.75 | C3: =B3*Rate/12 -> 998.55918 | D3: =MIN(Payment,B3+C3)-C3 -> 433.68671 | E3: =MIN(Additional_principal,B3-D3) -> 0 | F3: =MAX(B3-D3-E3,0) -> 299134.07
A4: =1+A3 -> 3 | B4: =F3 -> 299134.07 | C4: =B4*Rate/12 -> 997.11356 | D4: =MIN(Payment,B4+C4)-C4 -> 435.13233 | E4: =MIN(Additional_principal,B4-D4) -> 0 | F4: =MAX(B4-D4-E4,0) -> 298698.94
A5: =1+A4 -> 4 | B5: =F4 -> 298698.94 | C5: =B5*Rate/12 -> 995.66312 | D5: =MIN(Payment,B5+C5)-C5 -> 436.58277 | E5: =MIN(Additional_principal,B5-D5) -> 0 | F5: =MAX(B5-D5-E5,0) -> 298262.35
A6: =1+A5 -> 5 | B6: =F5 -> 298262.35 | C6: =B6*Rate/12 -> 994.20784 | D6: =MIN(Payment,B6+C6)-C6 -> 438.03805 | E6: =MIN(Additional_principal,B6-D6) -> 0 | F6: =MAX(B6-D6-E6,0) -> 297824.31
A7: =1+A6 -> 6 | B7: =F6 -> 297824.31 | C7: =B7*Rate/12 -> 992.74771 | D7: =MIN(Payment,B7+C7)-C7 -> 439.49817 | E7: =MIN(Additional_principal,B7-D7) -> 0 | F7: =MAX(B7-D7-E7,0) -> 297384.82
A8: =1+A7 -> 7 | B8: =F7 -> 297384.82 | C8: =B8*Rate/12 -> 991.28272 | D8: =MIN(Payment,B8+C8)-C8 -> 440.96317 | E8: =MIN(Additional_principal,B8-D8) -> 0 | F8: =MAX(B8-D8-E8,0) -> 296943.85
A9: =1+A8 -> 8 | B9: =F8 -> 296943.85 | C9: =B9*Rate/12 -> 989.81284 | D9: =MIN(Payment,B9+C9)-C9 -> 442.43304 | E9: =MIN(Additional_principal,B9-D9) -> 0 | F9: =MAX(B9-D9-E9,0) -> 296501.42
A10: =1+A9 -> 9 | B10: =F9 -> 296501.42 | C10: =B10*Rate/12 -> 988.33807 | D10: =MIN(Payment,B10+C10)-C10 -> 443.90782 | E10: =MIN(Additional_principal,B10-D10) -> 0 | F10: =MAX(B10-D10-E10,0) -> 296057.51
A11: =1+A10 -> 10 | B11: =F10 -> 296057.51 | C11: =B11*Rate/12 -> 986.85837 | D11: =MIN(Payment,B11+C11)-C11 -> 445.38751 | E11: =MIN(Additional_principal,B11-D11) -> 0 | F11: =MAX(B11-D11-E11,0) -> 295612.12
A12: =1+A11 -> 11 | B12: =F11 -> 295612.12 | C12: =B12*Rate/12 -> 985.37375 | D12: =MIN(Payment,B12+C12)-C12 -> 446.87214 | E12: =MIN(Additional_principal,B12-D12) -> 0 | F12: =MAX(B12-D12-E12,0) -> 295165.25
A13: =1+A12 -> 12 | B13: =F12 -> 295165.25 | C13: =B13*Rate/12 -> 983.88417 | D13: =MIN(Payment,B13+C13)-C13 -> 448.36171 | E13: =MIN(Additional_principal,B13-D13) -> 0 | F13: =MAX(B13-D13-E13,0) -> 294716.89 | G13: =SUM(C2:C13) -> 11903.841 | H13: =SUM(D2:D13) -> 5283.1093 | I13: =SUM(E2:E13) -> 0 | J13: ="year "&A13/12 -> year 1
A14: =1+A13 -> 13 | B14: =F13 -> 294716.89 | C14: =B14*Rate/12 -> 982.38964 | D14: =MIN(Payment,B14+C14)-C14 -> 449.85625 | E14: =MIN(Additional_principal,B14-D14) -> 0 | F14: =MAX(B14-D14-E14,0) -> 294267.03
A15: =1+A14 -> 14 | B15: =F14 -> 294267.03 | C15: =B15*Rate/12 -> 980.89011 | D15: =MIN(Payment,B15+C15)-C15 -> 451.35577 | E15: =MIN(Additional_principal,B15-D15) -> 0 | F15: =MAX(B15-D15-E15,0) -> 293815.68
A16: =1+A15 -> 15 | B16: =F15 -> 293815.68 | C16: =B16*Rate/12 -> 979.3856 | D16: =MIN(Payment,B16+C16)-C16 -> 452.86029 | E16: =MIN(Additional_principal,B16-D16) -> 0 | F16: =MAX(B16-D16-E16,0) -> 293362.82
A17: =1+A16 -> 16 | B17: =F16 -> 293362.82 | C17: =B17*Rate/12 -> 977.87606 | D17: =MIN(Payment,B17+C17)-C17 -> 454.36983 | E17: =MIN(Additional_principal,B17-D17) -> 0 | F17: =MAX(B17-D17-E17,0) -> 292908.45
A18: =1+A17 -> 17 | B18: =F17 -> 292908.45 | C18: =B18*Rate/12 -> 976.3615 | D18: =MIN(Payment,B18+C18)-C18 -> 455.88439 | E18: =MIN(Additional_principal,B18-D18) -> 0 | F18: =MAX(B18-D18-E18,0) -> 292452.56
A19: =1+A18 -> 18 | B19: =F18 -> 292452.56 | C19: =B19*Rate/12 -> 974.84188 | D19: =MIN(Payment,B19+C19)-C19 -> 457.40401 | E19: =MIN(Additional_principal,B19-D19) -> 0 | F19: =MAX(B19-D19-E19,0) -> 291995.16
A20: =1+A19 -> 19 | B20: =F19 -> 291995.16 | C20: =B20*Rate/12 -> 973.3172 | D20: =MIN(Payment,B20+C20)-C20 -> 458.92869 | E20: =MIN(Additional_principal,B20-D20) -> 0 | F20: =MAX(B20-D20-E20,0) -> 291536.23
A21: =1+A20 -> 20 | B21: =F20 -> 291536.23 | C21: =B21*Rate/12 -> 971.78744 | D21: =MIN(Payment,B21+C21)-C21 -> 460.45845 | E21: =MIN(Additional_principal,B21-D21) -> 0 | F21: =MAX(B21-D21-E21,0) -> 291075.77
A22: =1+A21 -> 21 | B22: =F21 -> 291075.77 | C22: =B22*Rate/12 -> 970.25258 | D22: =MIN(Payment,B22+C22)-C22 -> 461.99331 | E22: =MIN(Additional_principal,B22-D22) -> 0 | F22: =MAX(B22-D22-E22,0) -> 290613.78
A23: =1+A22 -> 22 | B23: =F22 -> 290613.78 | C23: =B23*Rate/12 -> 968.7126 | D23: =MIN(Payment,B23+C23)-C23 -> 463.53329 | E23: =MIN(Additional_principal,B23-D23) -> 0 | F23: =MAX(B23-D23-E23,0) -> 290150.25
A24: =1+A23 -> 23 | B24: =F23 -> 290150.25 | C24: =B24*Rate/12 -> 967.16749 | D24: =MIN(Payment,B24+C24)-C24 -> 465.0784 | E24: =MIN(Additional_principal,B24-D24) -> 0 | F24: =MAX(B24-D24-E24,0) -> 289685.17
A25: =1+A24 -> 24 | B25: =F24 -> 289685.17 | C25: =B25*Rate/12 -> 965.61723 | D25: =MIN(Payment,B25+C25)-C25 -> 466.62866 | E25: =MIN(Additional_principal,B25-D25) -> 0 | F25: =MAX(B25-D25-E25,0) -> 289218.54 | G25: =SUM(C14:C25) -> 11688.599 | H25: =SUM(D14:D25) -> 5498.3513 | I25: =SUM(E14:E25) -> 0 | J25: ="year "&A25/12 -> year 2
A26: =1+A25 -> 25 | B26: =F25 -> 289218.54 | C26: =B26*Rate/12 -> 964.0618 | D26: =MIN(Payment,B26+C26)-C26 -> 468.18409 | E26: =MIN(Additional_principal,B26-D26) -> 0 | F26: =MAX(B26-D26-E26,0) -> 288750.36
A27: =1+A26 -> 26 | B27: =F26 -> 288750.36 | C27: =B27*Rate/12 -> 962.50118 | D27: =MIN(Payment,B27+C27)-C27 -> 469.7447 | E27: =MIN(Additional_principal,B27-D27) -> 0 | F27: =MAX(B27-D27-E27,0) -> 288280.61
A28: =1+A27 -> 27 | B28: =F27 -> 288280.61 | C28: =B28*Rate/12 -> 960.93537 | D28: =MIN(Payment,B28+C28)-C28 -> 471.31052 | E28: =MIN(Additional_principal,B28-D28) -> 0 | F28: =MAX(B28-D28-E28,0) -> 287809.3
A29: =1+A28 -> 28 | B29: =F28 -> 287809.3 | C29: =B29*Rate/12 -> 959.36433 | D29: =MIN(Payment,B29+C29)-C29 -> 472.88155 | E29: =MIN(Additional_principal,B29-D29) -> 0 | F29: =MAX(B29-D29-E29,0) -> 287336.42
A30: =1+A29 -> 29 | B30: =F29 -> 287336.42 | C30: =B30*Rate/12 -> 957.78806 | D30: =MIN(Payment,B30+C30)-C30 -> 474.45782 | E30: =MIN(Additional_principal,B30-D30) -> 0 | F30: =MAX(B30-D30-E30,0) -> 286861.96
A31: =1+A30 -> 30 | B31: =F30 -> 286861.96 | C31: =B31*Rate/12 -> 956.20654 | D31: =MIN(Payment,B31+C31)-C31 -> 476.03935 | E31: =MIN(Additional_principal,B31-D31) -> 0 | F31: =MAX(B31-D31-E31,0) -> 286385.92
A32: =1+A31 -> 31 | B32: =F31 -> 286385.92 | C32: =B32*Rate/12 -> 954.61974 | D32: =MIN(Payment,B32+C32)-C32 -> 477.62615 | E32: =MIN(Additional_principal,B32-D32) -> 0 | F32: =MAX(B32-D32-E32,0) -> 285908.3
A33: =1+A32 -> 32 | B33: =F32 -> 285908.3 | C33: =B33*Rate/12 -> 953.02765 | D33: =MIN(Payment,B33+C33)-C33 -> 479.21824 | E33: =MIN(Additional_principal,B33-D33) -> 0 | F33: =MAX(B33-D33-E33,0) -> 285429.08
A34: =1+A33 -> 33 | B34: =F33 -> 285429.08 | C34: =B34*Rate/12 -> 951.43026 | D34: =MIN(Payment,B34+C34)-C34 -> 480.81563 | E34: =MIN(Additional_principal,B34-D34) -> 0 | F34: =MAX(B34-D34-E34,0) -> 284948.26
A35: =1+A34 -> 34 | B35: =F34 -> 284948.26 | C35: =B35*Rate/12 -> 949.82754 | D35: =MIN(Payment,B35+C35)-C35 -> 482.41835 | E35: =MIN(Additional_principal,B35-D35) -> 0 | F35: =MAX(B35-D35-E35,0) -> 284465.84
A36: =1+A35 -> 35 | B36: =F35 -> 284465.84 | C36: =B36*Rate/12 -> 948.21948 | D36: =MIN(Payment,B36+C36)-C36 -> 484.02641 | E36: =MIN(Additional_principal,B36-D36) -> 0 | F36: =MAX(B36-D36-E36,0) -> 283981.82
A37: =1+A36 -> 36 | B37: =F36 -> 283981.82 | C37: =B37*Rate/12 -> 946.60606 | D37: =MIN(Payment,B37+C37)-C37 -> 485.63983 | E37: =MIN(Additional_principal,B37-D37) -> 0 | F37: =MAX(B37-D37-E37,0) -> 283496.18 | G37: =SUM(C26:C37) -> 11464.588 | H37: =SUM(D26:D37) -> 5722.3626 | I37: =SUM(E26:E37) -> 0 | J37: ="year "&A37/12 -> year 3
A38: =1+A37 -> 37 | B38: =F37 -> 283496.18 | C38: =B38*Rate/12 -> 944.98726 | D38: =MIN(Payment,B38+C38)-C38 -> 487.25863 | E38: =MIN(Additional_principal,B38-D38) -> 0 | F38: =MAX(B38-D38-E38,0) -> 283008.92
A39: =1+A38 -> 38 | B39: =F38 -> 283008.92 | C39: =B39*Rate/12 -> 943.36306 | D39: =MIN(Payment,B39+C39)-C39 -> 488.88283 | E39: =MIN(Additional_principal,B39-D39) -> 0 | F39: =MAX(B39-D39-E39,0) -> 282520.04
A40: =1+A39 -> 39 | B40: =F39 -> 282520.04 | C40: =B40*Rate/12 -> 941.73345 | D40: =MIN(Payment,B40+C40)-C40 -> 490.51244 | E40: =MIN(Additional_principal,B40-D40) -> 0 | F40: =MAX(B40-D40-E40,0) -> 282029.52
...

Sheet nexs.app
A1: # NExS app configuration - generated by the NExS Excel Add-in
A2: # App type: Interactive Calculator
A3: app | B3: Mortgage Calculator
A4: view | B4: Sheet1!B2:K23
B5: name | C5: Main
B6: input | C6: C7:C10
B7: input | C7: C15:C19
A8: end
