Workbook

Sheet Calculator
B2: Solar Savings Estimator
B3: See what solar panels could save you.
J4: Please Note: This calculator is for demonstration purposes only. It is not intended to be used for any actual savings calculation.
B5: Monthly electric bill | F5: 180
B7: Sunshine where you live | C7: 0 | D7: Sunny
C8: 1 | D8: Average
C9: 0 | D9: Cloudy
B11: System size (kW) | F11: 6
B14: System cost | F14: =Assumptions!B18 -> 16400
B15: Savings per year | F15: =Assumptions!B17 -> 1419.12
B16: Payback (years) | F16: =IF(F15>0,F14/F15,"") -> 11.556458
B17: Savings over 25 years | F17: =25*F15-F14 -> 19078

Sheet Assumptions
A1: Assumptions
A3: Electricity rate ($/kWh) | B3: 0.18
A4: Installed cost ($ per watt) | B4: 2.4
A5: Fixed install cost | B5: 2000
A6: System efficiency | B6: 0.8
A8: Peak sun hours per day
A9: Sunny | B9: 5.5
A10: Average | B10: 4.5
A11: Cloudy | B11: 3.5
A13: Calculations
A14: Sun hours used | B14: =IF(Calculator!C7=1,B9,IF(Calculator!C9=1,B11,B10)) -> 4.5
A15: Yearly production (kWh) | B15: =Calculator!F11*B14*365*B6 -> 7884
A16: Yearly usage (kWh) | B16: =Calculator!F5/B3*12 -> 12000
A17: Yearly savings | B17: =MIN(B15,B16)*B3 -> 1419.12
A18: System cost | B18: =B5+Calculator!F11*1000*B4 -> 16400

Sheet Data
A1: Savings year by year [Net savings ($)]
A2: Year | B2: Net savings
A3: 1 | B3: =A3*Calculator!$F$15-Calculator!$F$14 -> -14980.88
A4: 2 | B4: =A4*Calculator!$F$15-Calculator!$F$14 -> -13561.76
A5: 3 | B5: =A5*Calculator!$F$15-Calculator!$F$14 -> -12142.64
A6: 4 | B6: =A6*Calculator!$F$15-Calculator!$F$14 -> -10723.52
A7: 5 | B7: =A7*Calculator!$F$15-Calculator!$F$14 -> -9304.4
A8: 6 | B8: =A8*Calculator!$F$15-Calculator!$F$14 -> -7885.28
A9: 7 | B9: =A9*Calculator!$F$15-Calculator!$F$14 -> -6466.16
A10: 8 | B10: =A10*Calculator!$F$15-Calculator!$F$14 -> -5047.04
A11: 9 | B11: =A11*Calculator!$F$15-Calculator!$F$14 -> -3627.92
A12: 10 | B12: =A12*Calculator!$F$15-Calculator!$F$14 -> -2208.8
A13: 11 | B13: =A13*Calculator!$F$15-Calculator!$F$14 -> -789.68
A14: 12 | B14: =A14*Calculator!$F$15-Calculator!$F$14 -> 629.44
... A27: 25 | B27: =A27*Calculator!$F$15-Calculator!$F$14 -> 19078

Sheet nexs.app
A1: # NExS app configuration - generated by the NExS Excel Add-in
A2: # App type: Interactive Calculator
A3: app | B3: Solar Savings
A4: view | B4: Calculator!B2:F31
B5: name | C5: Main
B6: input | C6: F5
B7: radio | C7: C7:C9
B8: slider
C9: cell | D9: C11
C10: linkedCell | D10: F11
C11: min | D11: 2
C12: max | D12: 12
C13: step | D13: 0.5
B14: chart | C14: B19:F31
C15: source | D15: Data!A1:B27
C16: type | D16: column
C17: legend | D17: none
A18: end
